BEGIN:VCALENDAR
VERSION:2.0
PRODID:Events Booking
BEGIN:VEVENT
UID:69e5930e71eb2
SUMMARY:Teaching Course - Module 2F - St Mary's\, Billingshurst\, Sussex
DESCRIPTION:
 Module 2F is part of the ART Training Scheme.
 This module 
 shows new and experienced teachers how to support their students and devel
 op the necessary foundation skills for good ringing and then move forward 
 to ringing changes.&nbsp\;
LOCATION:12 East St\, Billingshurst RH14 9PY\, UK
DTSTART:20250308T093000Z
DTEND:20250308T170000Z
DTSTAMP:20260420T024430Z
ORGANIZER;CN=ART Events:MAILTO:events@bellringing.org
GEO:51.022413;-0.450759
X-APPLE-STRUCTURED-LOCATION;VALUE=URI;X-ADDRESS=12 East St\, Billingshurst 
 RH14 9PY\, UK;X-APPLE-RADIUS=72;X-TITLE=St Mary's\, Billingshurst\, West S
 ussex:51.022413;-0.450759
END:VEVENT
END:VCALENDAR