BEGIN:VCALENDAR
VERSION:2.0
PRODID:Events Booking
BEGIN:VEVENT
UID:69e4f29c81b82
SUMMARY:Teaching Course - Module 2F - Hathern\, Leicestershire
DESCRIPTION:
 Module 2 is part of the ART Ringing Teacher Accredition sche
 me.
 This module shows new and experienced teachers how to support their 
 students and develop the necessary foundation skills for good ringing and 
 then move forward to ringing changes.&nbsp\;
LOCATION:Church Street\, Hathern\, LE12 5LA
DTSTART:20230218T090000Z
DTEND:20230218T170000Z
DTSTAMP:20260419T151956Z
ORGANIZER;CN=ART Events:MAILTO:events@bellringing.org
GEO:52.79707;-1.25598
X-APPLE-STRUCTURED-LOCATION;VALUE=URI;X-ADDRESS=Church Street\, Hathern\, L
 E12 5LA;X-APPLE-RADIUS=72;X-TITLE=St Peter & St Paul\, Hathern\, Leicester
 shire:52.79707;-1.25598
END:VEVENT
END:VCALENDAR