BEGIN:VCALENDAR
VERSION:2.0
PRODID:Events Booking
BEGIN:VEVENT
UID:69e4d53295bfc
SUMMARY:Teaching Course - Module 2F - St Michael's Askerswell\, Dorset
DESCRIPTION:
 Module 2F is part of the ART Training Scheme.
 This module 
 shows new and experienced teachers how to support their students and devel
 op the necessary foundation skills for good ringing and then move forward 
 to ringing changes.&nbsp\;
LOCATION:Nallers Farm\, Dorchester DT2 9EJ\, UK
DTSTART:20240615T080000Z
DTEND:20240615T160000Z
DTSTAMP:20260419T131426Z
ORGANIZER;CN=ART Events:MAILTO:events@bellringing.org
GEO:50.730898;-2.667634
X-APPLE-STRUCTURED-LOCATION;VALUE=URI;X-ADDRESS=Nallers Farm\, Dorchester D
 T2 9EJ\, UK;X-APPLE-RADIUS=72;X-TITLE=St Michael's\, Askerswell\, Dorset:5
 0.730898;-2.667634
END:VEVENT
END:VCALENDAR