BEGIN:VCALENDAR
VERSION:2.0
PRODID:Events Booking
BEGIN:VEVENT
UID:69e848ac6e520
SUMMARY:Teaching Course - Module 2F - All Saints\, North Cave\, Yorkshire
DESCRIPTION:
 Module 2F is part of the ART Training Scheme.
 This module 
 shows new and experienced teachers how to support their students and devel
 op the necessary foundation skills for good ringing and then move forward 
 to ringing changes.&nbsp\;
LOCATION:Church Street\, North Cave\, East Yorkshire\, HU15 2GJ
DTSTART:20240831T083000Z
DTEND:20240831T160000Z
DTSTAMP:20260422T040356Z
ORGANIZER;CN=ART Events:MAILTO:events@bellringing.org
GEO:53.78322;-0.64065
X-APPLE-STRUCTURED-LOCATION;VALUE=URI;X-ADDRESS=Church Street\, North Cave\
 , East Yorkshire\, HU15 2GJ;X-APPLE-RADIUS=72;X-TITLE=All Saints North Cav
 e\, East Riding of Yorkshire:53.78322;-0.64065
END:VEVENT
END:VCALENDAR